BEGIN:VCALENDAR
VERSION:2.0
PRODID:-//Sch2 - ECPv5.3.2.1//NONSGML v1.0//EN
CALSCALE:GREGORIAN
METHOD:PUBLISH
X-WR-CALNAME:Sch2
X-ORIGINAL-URL:https://sch2.edu.vn.ua
X-WR-CALDESC:Events for Sch2
BEGIN:VTIMEZONE
TZID:UTC
BEGIN:STANDARD
TZOFFSETFROM:+0000
TZOFFSETTO:+0000
TZNAME:UTC
DTSTART:20210101T000000
END:STANDARD
TZID:Europe/Kiev
BEGIN:DAYLIGHT
TZOFFSETFROM:+0200
TZOFFSETTO:+0300
TZNAME:EEST
DTSTART:20210328T010000
END:DAYLIGHT
BEGIN:STANDARD
TZOFFSETFROM:+0300
TZOFFSETTO:+0200
TZNAME:EET
DTSTART:20211031T010000
END:STANDARD
END:VTIMEZONE
BEGIN:VEVENT
DTSTART;VALUE=DATE:20210309
DTEND;VALUE=DATE:20210317
DTSTAMP:20260423T005702
CREATED:20210308T200026Z
LAST-MODIFIED:20210308T211010Z
UID:197-1615248000-1615939199@sch2.edu.vn.ua
SUMMARY:Шевченківські дні
DESCRIPTION:Традиційно щороку в закладі проходять заходи\, присвячені дню народження великого українського письменника\, художника\, громадського діяча\, генія нашого народу – Тараса Григоровича Шевченка. Цьогоріч кафедра вчителів української мови та літератури проводить заходи в межах міського літературно-мистецького проєкту «Шевченко для усіх століть». \n	\n		\n			\n				\n									№\n									Зміст заходу\n									Класи\n									Терміни проведення\n									Відповідальний\n								\n				\n					\n								\n				1			\n								\n				Флешмоб «Мій Кобзар»: фотоколаж дітей із книгами Т. Шевченка			\n								\n				1-ші класи			\n								\n				5-12 березня			\n								\n				Кл. керівники 1 класів			\n			\n		\n								\n				2			\n								\n				Виховні години на тему: «Слово про Кобзаря»: повідомлення учнів цікавих фактів про життя й творчість Т. Шевченка			\n								\n				2-гі класи			\n								\n				10 березня			\n								\n				Кл. керівники 2 класів			\n			\n		\n								\n				3			\n								\n				Конкурс на найкращого читця поезії Т. Шевченка (відоеформат)			\n								\n				3-4 класи			\n								\n				5-12 березня			\n								\n				Педагог-організатор Махлярчук О. С.			\n			\n		\n								\n				4			\n								\n				Флешмоб «Літературний конкурс «Хто зверху?» за творами про дитинство Т. Шевченка (С. Васильченко\, О. Іваненко)			\n								\n				5 класи			\n								\n				10 березня			\n								\n				Учителі укр.літератури Буга Т. І.\, Ящук С. А.			\n			\n		\n								\n				5			\n								\n				Виставка учнівських малюнків-люстрацій за мотивами творів Т. Г. Шевченка «Тарасовими стежками»			\n								\n				6 класи			\n								\n				12 березня			\n								\n				Учитель малювання Камінська О. П.			\n			\n	\n	\n								\n				6			\n								\n				Виставка малюнків-портретів Т. Шевченка «Мій Шевченко»			\n								\n				7 класи			\n								\n				12 березня			\n								\n				Учитель малювання Камінська О. П.			\n			\n		\n								\n				7			\n								\n				Флешмоб «Написання творчих есе на тему: «Весна починається з Шевченка»			\n								\n				6 класи			\n								\n				10 березня			\n								\n				Тягун О. С.\, Безносюк В. В.\, Мащенко С. І.			\n			\n		\n								\n				8			\n								\n				Виготовлення панбуків «Знов до тебе приходимо\, наш Кобзарю!»			\n								\n				7 класи			\n								\n				5-12 березня			\n								\n				Ящук С. А.			\n			\n		\n								\n				9			\n								\n				Конкурс фотографій селфі-батл «Я і Шевченко»			\n								\n				8 класи			\n								\n				11 березня			\n								\n				Філіпішена А. М.			\n			\n		\n								\n				10			\n								\n				Конкурс музичних кліпів «Сучасна пісня – на слова Кобзаря»			\n								\n				8 класи			\n								\n				12 березня			\n								\n				Кляузова Ж. О.			\n			\n		\n								\n				11			\n								\n				Онлайн-вікторина «Що я знаю про Шевченка?»			\n								\n				9 класи			\n								\n				10 березня			\n								\n				Філіпішена А. М.			\n			\n		\n								\n				12			\n								\n				Відеореліз «Золоті рядки Кобзаря»			\n								\n				10 класи			\n								\n				11 березня			\n								\n				Босак С. П.			\n			\n		\n								\n				13			\n								\n				Написання есе «Лист Кобзареві»			\n								\n				11 класи			\n								\n				9 березня			\n								\n				Кізлик З. В.
URL:https://sch2.edu.vn.ua/event/shevchenko-days-2021/
LOCATION:Онлайн
CATEGORIES:Свята й традиції
ATTACH;FMTTYPE=image/jpeg:https://sch2.edu.vn.ua/wp-content/uploads/2021/03/Shevchenko_days.jpg
END:VEVENT
BEGIN:VEVENT
DTSTART;VALUE=DATE:20210311
DTEND;VALUE=DATE:20210313
DTSTAMP:20260423T005702
CREATED:20210308T200054Z
LAST-MODIFIED:20210308T202230Z
UID:195-1615420800-1615593599@sch2.edu.vn.ua
SUMMARY:Конкурс «Бюджет шкільних проєктів»
DESCRIPTION:Наближається до завершення шкільний етап конкурсу «Бюджет шкільних проєктів». Координаційною радою закладу було розглянуто й винесено на голосування 8 проєктів\, створених класними колективами 5-11 класів. Голосування за проєкти відбудеться протягом тижня з 11 до 16 березня. Переможець буде оголошений 18 березня.
URL:https://sch2.edu.vn.ua/event/school-project-budget-competition-2021/
LOCATION:Онлайн
CATEGORIES:Проєктна діяльність
ATTACH;FMTTYPE=image/jpeg:https://sch2.edu.vn.ua/wp-content/uploads/2021/03/school-project-budget-competition-2021.jpg
END:VEVENT
BEGIN:VEVENT
DTSTART;VALUE=DATE:20210315
DTEND;VALUE=DATE:20210320
DTSTAMP:20260423T005702
CREATED:20170203T104108Z
LAST-MODIFIED:20210308T202904Z
UID:198-1615766400-1616198399@sch2.edu.vn.ua
SUMMARY:Закони доброти
DESCRIPTION:У межах місячника милосердя (березень) в класних колективах\, на засіданнях органів учнівського врядування та батьківському всеобучі відбудеться тижневик протидії булінгу й виявам агресії в шкільному середовищі в рамках реалізації проєкту «Стоп булінг!»
URL:https://sch2.edu.vn.ua/event/laws-of-kindness-2021/
LOCATION:Відповідно до санітарно-епідеміологічної ситуації
CATEGORIES:Протидія булінгу
END:VEVENT
BEGIN:VEVENT
DTSTART;TZID=Europe/Kiev:20210315T080000
DTEND;TZID=Europe/Kiev:20210318T170000
DTSTAMP:20260423T005702
CREATED:20210324T054349Z
LAST-MODIFIED:20210324T054349Z
UID:810-1615795200-1616086800@sch2.edu.vn.ua
SUMMARY:Онлайн-голосування в конкурсі «Бюджет шкільних проєктів»
DESCRIPTION:Завершення шкільного етапу конкурсу «Бюджет шкільних проєктів» всешкільним онлайн-голосуванням та підбиття підсумків координаційною радою школи.
URL:https://sch2.edu.vn.ua/event/%d0%be%d0%bd%d0%bb%d0%b0%d0%b9%d0%bd-%d0%b3%d0%be%d0%bb%d0%be%d1%81%d1%83%d0%b2%d0%b0%d0%bd%d0%bd%d1%8f-%d0%b2-%d0%ba%d0%be%d0%bd%d0%ba%d1%83%d1%80%d1%81%d1%96-%d0%b1%d1%8e%d0%b4%d0%b6%d0%b5/
LOCATION:Онлайн
END:VEVENT
BEGIN:VEVENT
DTSTART;TZID=Europe/Kiev:20210318T150000
DTEND;TZID=Europe/Kiev:20210318T160000
DTSTAMP:20260423T005702
CREATED:20210324T054850Z
LAST-MODIFIED:20210324T054901Z
UID:812-1616079600-1616083200@sch2.edu.vn.ua
SUMMARY:Участь у тренінговому занятті КУ «Центр професійного розвитку педагогічних працівників ВМР»
DESCRIPTION:Участь у тренінговому занятті КУ «Центр професійного розвитку педагогічних працівників ВМР» на тему «Методи корекції негативної поведінки та особистісних якостей у дітей»
URL:https://sch2.edu.vn.ua/event/%d1%83%d1%87%d0%b0%d1%81%d1%82%d1%8c-%d1%83-%d1%82%d1%80%d0%b5%d0%bd%d1%96%d0%bd%d0%b3%d0%be%d0%b2%d0%be%d0%bc%d1%83-%d0%b7%d0%b0%d0%bd%d1%8f%d1%82%d1%82%d1%96-%d0%ba%d1%83-%d1%86%d0%b5%d0%bd/
LOCATION:Онлайн
CATEGORIES:Виховна робота
ORGANIZER;CN="%D0%9A%D0%A3%20%C2%AB%D0%A6%D0%B5%D0%BD%D1%82%D1%80%20%D0%BF%D1%80%D0%BE%D1%84%D0%B5%D1%81%D1%96%D0%B9%D0%BD%D0%BE%D0%B3%D0%BE%20%D1%80%D0%BE%D0%B7%D0%B2%D0%B8%D1%82%D0%BA%D1%83%20%D0%BF%D0%B5%D0%B4%D0%B0%D0%B3%D0%BE%D0%B3%D1%96%D1%87%D0%BD%D0%B8%D1%85%20%D0%BF%D1%80%D0%B0%D1%86%D1%96%D0%B2%D0%BD%D0%B8%D0%BA%D1%96%D0%B2%20%D0%92%D0%9C%D0%A0%C2%BB":MAILTO:zprppvmr@galaxy.vn.ua
END:VEVENT
BEGIN:VEVENT
DTSTART;VALUE=DATE:20210320
DTEND;VALUE=DATE:20210324
DTSTAMP:20260423T005702
CREATED:20210324T055246Z
LAST-MODIFIED:20210324T055322Z
UID:815-1616198400-1616543999@sch2.edu.vn.ua
SUMMARY:День щастя
DESCRIPTION:Проведення виховних заходів до Всесвітнього дня щастя класними колективами 1-4 класів онлайн.
URL:https://sch2.edu.vn.ua/event/%d0%b4%d0%b5%d0%bd%d1%8c-%d1%89%d0%b0%d1%81%d1%82%d1%8f/
LOCATION:Онлайн
CATEGORIES:Виховна робота,Події та заходи
END:VEVENT
BEGIN:VEVENT
DTSTART;VALUE=DATE:20210320
DTEND;VALUE=DATE:20210326
DTSTAMP:20260423T005702
CREATED:20210324T112000Z
LAST-MODIFIED:20210324T112000Z
UID:818-1616198400-1616716799@sch2.edu.vn.ua
SUMMARY:77 річниця з дня визволення Вінниці від фашистських загарбників
DESCRIPTION:Виховні заходи в колективах 5-11 класів: уроки пам’яті\, історичні бесіди\, виховні години\, віртуальні екскурсії\, присвячені подіям в роки Другої світової війни у нашому місті та школі.
URL:https://sch2.edu.vn.ua/event/77-%d1%80%d1%96%d1%87%d0%bd%d0%b8%d1%86%d1%8f-%d0%b7-%d0%b4%d0%bd%d1%8f-%d0%b2%d0%b8%d0%b7%d0%b2%d0%be%d0%bb%d0%b5%d0%bd%d0%bd%d1%8f-%d0%b2%d1%96%d0%bd%d0%bd%d0%b8%d1%86%d1%96-%d0%b2%d1%96%d0%b4/
LOCATION:Онлайн
CATEGORIES:Виховна робота,Події та заходи
END:VEVENT
BEGIN:VEVENT
DTSTART;TZID=Europe/Kiev:20210323T130000
DTEND;TZID=Europe/Kiev:20210323T140000
DTSTAMP:20260423T005702
CREATED:20210324T112336Z
LAST-MODIFIED:20210324T112346Z
UID:820-1616504400-1616508000@sch2.edu.vn.ua
SUMMARY:Засідання атестаційної комісії
DESCRIPTION:Атестація педагогічних працівників у 2020-2021 н. р. на відповідність займаним посадам та про присвоєння кваліфікаційних категорій
URL:https://sch2.edu.vn.ua/event/%d0%b7%d0%b0%d1%81%d1%96%d0%b4%d0%b0%d0%bd%d0%bd%d1%8f-%d0%b0%d1%82%d0%b5%d1%81%d1%82%d0%b0%d1%86%d1%96%d0%b9%d0%bd%d0%be%d1%97-%d0%ba%d0%be%d0%bc%d1%96%d1%81%d1%96%d1%97/
CATEGORIES:Оцінювання якості освітньої діяльності
END:VEVENT
BEGIN:VEVENT
DTSTART;VALUE=DATE:20210324
DTEND;VALUE=DATE:20210325
DTSTAMP:20260423T005702
CREATED:20210324T112641Z
LAST-MODIFIED:20210324T112753Z
UID:823-1616544000-1616630399@sch2.edu.vn.ua
SUMMARY:Заходи профілактики шкідливих звичок
DESCRIPTION:Виховні заходи (онлайн-бесіди\, перегляд тематичного відео\, дискусії) 8-11 класів щодо профілактики та недопущення вживання тютюнових та алкогольних виробів\, а також психоактивних речовин.
URL:https://sch2.edu.vn.ua/event/%d0%b7%d0%b0%d1%85%d0%be%d0%b4%d0%b8-%d0%bf%d1%80%d0%be%d1%84%d1%96%d0%bb%d0%b0%d0%ba%d1%82%d0%b8%d0%ba%d0%b8-%d1%88%d0%ba%d1%96%d0%b4%d0%bb%d0%b8%d0%b2%d0%b8%d1%85-%d0%b7%d0%b2%d0%b8%d1%87%d0%be/
LOCATION:Онлайн
CATEGORIES:Виховна робота
END:VEVENT
BEGIN:VEVENT
DTSTART;VALUE=DATE:20210325
DTEND;VALUE=DATE:20210326
DTSTAMP:20260423T005702
CREATED:20210324T112944Z
LAST-MODIFIED:20210325T075034Z
UID:826-1616630400-1616716799@sch2.edu.vn.ua
SUMMARY:Педагогічна рада
DESCRIPTION:Педагогічна рада на тему: «Створення сприятливих умов для формування особистісних якостей учасників освітнього процесу».
URL:https://sch2.edu.vn.ua/event/%d0%bf%d0%b5%d0%b4%d0%b0%d0%b3%d0%be%d0%b3%d1%96%d1%87%d0%bd%d0%b0-%d1%80%d0%b0%d0%b4%d0%b0/
LOCATION:Онлайн
CATEGORIES:Управлінські процеси закладу освіти
END:VEVENT
END:VCALENDAR