BEGIN:VCALENDAR
VERSION:2.0
PRODID:-//Sch2 - ECPv5.3.2.1//NONSGML v1.0//EN
CALSCALE:GREGORIAN
METHOD:PUBLISH
X-WR-CALNAME:Sch2
X-ORIGINAL-URL:https://sch2.edu.vn.ua
X-WR-CALDESC:Events for Sch2
BEGIN:VTIMEZONE
TZID:Europe/Kiev
BEGIN:DAYLIGHT
TZOFFSETFROM:+0200
TZOFFSETTO:+0300
TZNAME:EEST
DTSTART:20210328T010000
END:DAYLIGHT
BEGIN:STANDARD
TZOFFSETFROM:+0300
TZOFFSETTO:+0200
TZNAME:EET
DTSTART:20211031T010000
END:STANDARD
END:VTIMEZONE
BEGIN:VEVENT
DTSTART;TZID=Europe/Kiev:20210901T090000
DTEND;TZID=Europe/Kiev:20210901T120000
DTSTAMP:20260422T174044
CREATED:20211010T083308Z
LAST-MODIFIED:20211010T083308Z
UID:2561-1630486800-1630497600@sch2.edu.vn.ua
SUMMARY:День знань
DESCRIPTION:Урочисті заходи\, присвячені Дню знань
URL:https://sch2.edu.vn.ua/event/%d0%b4%d0%b5%d0%bd%d1%8c-%d0%b7%d0%bd%d0%b0%d0%bd%d1%8c/
LOCATION:Центральний парк культури і відпочинку ім. М. Леонтовича (майданчик перед Літнім театром)
CATEGORIES:Виховна робота
END:VEVENT
END:VCALENDAR