BEGIN:VCALENDAR
VERSION:2.0
PRODID:-//Sch2 - ECPv5.3.2.1//NONSGML v1.0//EN
CALSCALE:GREGORIAN
METHOD:PUBLISH
X-WR-CALNAME:Sch2
X-ORIGINAL-URL:https://sch2.edu.vn.ua
X-WR-CALDESC:Events for Sch2
BEGIN:VTIMEZONE
TZID:Europe/Kiev
BEGIN:DAYLIGHT
TZOFFSETFROM:+0200
TZOFFSETTO:+0300
TZNAME:EEST
DTSTART:20210328T010000
END:DAYLIGHT
BEGIN:STANDARD
TZOFFSETFROM:+0300
TZOFFSETTO:+0200
TZNAME:EET
DTSTART:20211031T010000
END:STANDARD
END:VTIMEZONE
BEGIN:VEVENT
DTSTART;TZID=Europe/Kiev:20210930T080000
DTEND;TZID=Europe/Kiev:20211030T170000
DTSTAMP:20260422T142854
CREATED:20211010T081217Z
LAST-MODIFIED:20211010T095023Z
UID:2548-1632988800-1635613200@sch2.edu.vn.ua
SUMMARY:Всеукраїнський місячник шкільних бібліотек
DESCRIPTION:Місячник бібліотек\, присвячений Дню шкільних бібліотек: \nПлан Всеукраїнського місячника шкільних бібліотек під гаслом  \n«Краєзнавство в шкільній бібліотеці: нові традиції та цінності» \n\n\n\n№ \nп\п\nЗміст проведення\nДата \nпроведення\nВідповідальні\n\n\n1.\nВідкриття Всеукраїнського місячника шкільних бібліотек «Краєзнавство в шкільній бібліотеці: нові традиції та цінності» на шкільній лінійці. Складання наказу по закладу про проведення місячника\n01.10\nБібліотекарі\n\n\n2.\nФотогалерея «Моя улюблена книга»\n04.10-08.10\nУчні та вчителі школи\n\n\n3.\nКнижково-ілюстративні виставки: \n·       «Мій рідний край – моє Поділля» \n·       «Історія роду – історія нашого народу». \n·       «Гордість і душа держави\, її надія й оберіг»\nПротягом місяця\nБібліотекарі\n\n\n4.\nЕкскурсія до бібліотеки\, презентація літератури рідного краю\nПротягом місяця\nБібліотекарі \nУчні 1-х класів\n\n\n5.\nЛітературні читання з батьками\n04.10-08.10\nУчні 1-4 класів\n\n\n6.\nІсторична сторінка «Історія нашої гімназії»\n11.10-15.10 \n \nБібліотекарі \nУчнівський актив школи\n\n\n7.\nДні краєзнавчої літератури: \n·       «Літературне мистецтво рідного краю»; \n·       «Казками та легендами повито рідний край»\nПротягом місяця\nБібліотекарі \nУчителі мови та літератури\n\n\n8.\nКраєзнавчі ранки: «Подорож у давнину»\, «Пам’ятаємо історію рідного краю»\, «Рідне місто пізнаю»\nПротягом місяця\nБібліотекарі \nКласні керівники 1-4 класів\n\n\n9.\nКонкурс малюнків та їх виставка «Рідне місто»\nПротягом місяця\nБібліотекарі \nКамінська О.П. \nМихайлова І.В. \nУчні 5-7 класів\n\n\n10.\nКраєзнавчі вікторини: «Вивчай і знай свій рідний край!»\n21.10\nБібліотекарі\n\n\n11.\nФото-виставка: «Край у фотооб’єктиві» \n \n15.10-22.10 \n \nБібліотекарі \nУчні 8-11 класів\n\n\n12.\nАкція «Подаруй бібліотеці книгу»\nПротягом місяця\nБібліотекарі \nУчні школи\n\n\n13.\nНон-стоп  опитування «Знатні люди краю» (про славетних земляків)\n\nБібліотекарі \nУчні\n\n\n14.\nПідготовка й розповсюдження тематичних рекомендаційних списків (у вигляді буклетів\, закладок)\, що інформуватимуть про літературу з краєзнавчої тематики\n19-22.10\nБібліотекарі \nКласні керівники\n\n\n15.\nТворча майстерня\n26.10\nБібліотекарі\n\n\n16.\nВідзначення на шкільній лінійці кращих читачів\, переможців конкурсів\n29.10\nБібліотекарі\n\n\n17.\nРозміщення інформації на сайті та Facebook-сторінці гімназії про роботу шкільної бібліотеки під час проведення Всеукраїнського місячника шкільних бібліотек\nПротягом місяця\nБібліотекарі\n\n\n18.\nПідведення підсумків роботи  під час проведення Всеукраїнського місячника шкільних бібліотек\n29.10\nБібліотекарі\n\n\n\n 
URL:https://sch2.edu.vn.ua/event/%d0%b2%d1%81%d0%b5%d1%83%d0%ba%d1%80%d0%b0%d1%97%d0%bd%d1%81%d1%8c%d0%ba%d0%b8%d0%b9-%d0%bc%d1%96%d1%81%d1%8f%d1%87%d0%bd%d0%b8%d0%ba-%d1%88%d0%ba%d1%96%d0%bb%d1%8c%d0%bd%d0%b8%d1%85-%d0%b1%d1%96/
LOCATION:Бібліотека закладу
CATEGORIES:Події та заходи
END:VEVENT
BEGIN:VEVENT
DTSTART;VALUE=DATE:20211004
DTEND;VALUE=DATE:20211007
DTSTAMP:20260422T142854
CREATED:20211010T083929Z
LAST-MODIFIED:20211010T083929Z
UID:2564-1633305600-1633564799@sch2.edu.vn.ua
SUMMARY:Уроки доброти
DESCRIPTION:Уроки доброти\, присвячені безпритульним котам і собакам \nУчасники: 1-11 класи \nСпіворганізатори: Благодійний фонд “Щаслива лапа” \n 
URL:https://sch2.edu.vn.ua/event/%d1%83%d1%80%d0%be%d0%ba%d0%b8-%d0%b4%d0%be%d0%b1%d1%80%d0%be%d1%82%d0%b8/
CATEGORIES:Виховна робота
END:VEVENT
BEGIN:VEVENT
DTSTART;VALUE=DATE:20211004
DTEND;VALUE=DATE:20211031
DTSTAMP:20260422T142854
CREATED:20211010T084712Z
LAST-MODIFIED:20211010T100554Z
UID:2568-1633305600-1635638399@sch2.edu.vn.ua
SUMMARY:1 (шкільний) етап Всеукраїнських предметних олімпіад
DESCRIPTION:Графік проведення І (шкільного) етапу Всеукраїнських учнівських олімпіад  \nз базових і спеціальних дисциплін у 2021-2022 н. р. \n  \n\n\n\nПредмет\nДата\nАудиторія\nЧас\nВідповідальний\n\n\nУкраїнська мова та література\n04.10\n    27\, 28\n14.30\nТягун О.С.\n\n\nІсторія\n05.10\n32\n15:15\nЯкліч О.Б.\n\n\nПравознавство\n06.10\n32\n14:30\nРябошапка Л.В.\n\n\nАнглійська мова\n07.10\n32а\, 22\n14:30\nВакало Л.О.\n\n\nНімецька мова\французька мова\n08.10\n20\n14:30\nВакало Л.О.\n\n\nМатематика\n11.10\n29\n14.30\nКотьолкіна О.І.\n\n\nФізика\n12.10\n29а\n14.30\nКотьолкіна О.І.\n\n\nАстрономія\n13.10\n29а\n14.30\nКотьолкіна О.І.\n\n\nХімія\n18.10\n31\n14.30\nТарнавська Н.П.\n\n\nБіологія\n19.10\n21\n14.30\nТарнавська Н.П.\n\n\nГеографія\n20.10\n21\n14.30\nТарнавська Н.П.\n\n\nІнформатика\n21.10\n24\, 33\n14.30\nКотьолкіна О.І.\n\n\nІнформаційні технології\n22.10\n24\, 33\n14.30\nКотьолкіна О.І.\n\n\nТрудове навчання (технології)\n23.10\nМайстерня\n14.30\nТихоненко Г.О.\n\n\n\n 
URL:https://sch2.edu.vn.ua/event/1-%d1%88%d0%ba%d1%96%d0%bb%d1%8c%d0%bd%d0%b8%d0%b9-%d0%b5%d1%82%d0%b0%d0%bf-%d0%b2%d1%81%d0%b5%d1%83%d0%ba%d1%80%d0%b0%d1%97%d0%bd%d1%81%d1%8c%d0%ba%d0%b8%d1%85-%d0%bf%d1%80%d0%b5%d0%b4%d0%bc%d0%b5/
END:VEVENT
BEGIN:VEVENT
DTSTART;VALUE=DATE:20211004
DTEND;VALUE=DATE:20211016
DTSTAMP:20260422T142854
CREATED:20211010T085358Z
LAST-MODIFIED:20211010T085434Z
UID:2583-1633305600-1634342399@sch2.edu.vn.ua
SUMMARY:Патріотичний марафон
DESCRIPTION:Заходи національно-патріотичного виховання: \n\n\n\n\n\n1.\nОнлайн – відкриття патріотичного заходу «Патріотичний марафон»\n\n\n2.\nБлагодійна акція «Діти-янголи миру»\n\n\n3.\nШкільний онлайн-конкурс патріотичних мотиваційних постерів «Я хочу миру на своїй землі!»\n\n\n4.\nТанцювальний флешмоб «Я люблю Україну!»\n\n\n5.\nКвест «Стежками козацької слави»\n\n\n6.\nЗасідання історичного клубу «Покоління UA» на тему: «Як змінилися Збройні сили України за роки незалежності»
URL:https://sch2.edu.vn.ua/event/%d0%bf%d0%b0%d1%82%d1%80%d1%96%d0%be%d1%82%d0%b8%d1%87%d0%bd%d0%b8%d0%b9-%d0%bc%d0%b0%d1%80%d0%b0%d1%84%d0%be%d0%bd/
CATEGORIES:Виховна робота,Події та заходи
END:VEVENT
BEGIN:VEVENT
DTSTART;TZID=Europe/Kiev:20211008T100000
DTEND;TZID=Europe/Kiev:20211008T120000
DTSTAMP:20260422T142854
CREATED:20211010T081622Z
LAST-MODIFIED:20211010T081622Z
UID:2552-1633687200-1633694400@sch2.edu.vn.ua
SUMMARY:Зустріч старшокласників із працівниками сектору ювенальної превенції
DESCRIPTION:Тематичні бесіди на тему: “Права та обов’язки здобувачів освіти” із учнями 10 та 11 класів \nШкільний офіцер поліції: Кривенко С. В.
URL:https://sch2.edu.vn.ua/event/%d0%b7%d1%83%d1%81%d1%82%d1%80%d1%96%d1%87-%d1%81%d1%82%d0%b0%d1%80%d1%88%d0%be%d0%ba%d0%bb%d0%b0%d1%81%d0%bd%d0%b8%d0%ba%d1%96%d0%b2-%d1%96%d0%b7-%d0%bf%d1%80%d0%b0%d1%86%d1%96%d0%b2%d0%bd%d0%b8/
LOCATION:Актова зала
CATEGORIES:Виховна робота,Профілактична робота
END:VEVENT
BEGIN:VEVENT
DTSTART;TZID=Europe/Kiev:20211013T100000
DTEND;TZID=Europe/Kiev:20211013T130000
DTSTAMP:20260422T142854
CREATED:20211010T080538Z
LAST-MODIFIED:20211010T080538Z
UID:2546-1634119200-1634130000@sch2.edu.vn.ua
SUMMARY:День здоров'я "Код нації"
DESCRIPTION:Заходи\, присвячені Дню захисника й захиниці України\, для 7-11 класів: \n\nнаціонально-патріотичний квест “Код нації”\nекологічні акції\nуроки здоров’я
URL:https://sch2.edu.vn.ua/event/%d0%b4%d0%b5%d0%bd%d1%8c-%d0%b7%d0%b4%d0%be%d1%80%d0%be%d0%b2%d1%8f-%d0%ba%d0%be%d0%b4-%d0%bd%d0%b0%d1%86%d1%96%d1%97/
CATEGORIES:Виховна робота,Події та заходи
END:VEVENT
BEGIN:VEVENT
DTSTART;VALUE=DATE:20211018
DTEND;VALUE=DATE:20211025
DTSTAMP:20260422T142854
CREATED:20211010T081832Z
LAST-MODIFIED:20211010T081832Z
UID:2556-1634515200-1635119999@sch2.edu.vn.ua
SUMMARY:Осінні канікули
DESCRIPTION:Терміни осінніх канікул перенесено на тиждень раніше
URL:https://sch2.edu.vn.ua/event/%d0%be%d1%81%d1%96%d0%bd%d0%bd%d1%96-%d0%ba%d0%b0%d0%bd%d1%96%d0%ba%d1%83%d0%bb%d0%b8/
END:VEVENT
BEGIN:VEVENT
DTSTART;TZID=Europe/Kiev:20211030T080000
DTEND;TZID=Europe/Kiev:20211030T170000
DTSTAMP:20260422T142854
CREATED:20211028T045315Z
LAST-MODIFIED:20211028T045315Z
UID:2734-1635580800-1635613200@sch2.edu.vn.ua
SUMMARY:День учнівського самоврядування
DESCRIPTION:30 жовтня обов’язки адміністрації виконуватимуть: \nДиректор закладу – Камінський Ілля \nЗаступники директора: Тімченко Анна\, Ульяненкова Анастасія \nУчителі: старшокласники 10-11 класів
URL:https://sch2.edu.vn.ua/event/%d0%b4%d0%b5%d0%bd%d1%8c-%d1%83%d1%87%d0%bd%d1%96%d0%b2%d1%81%d1%8c%d0%ba%d0%be%d0%b3%d0%be-%d1%81%d0%b0%d0%bc%d0%be%d0%b2%d1%80%d1%8f%d0%b4%d1%83%d0%b2%d0%b0%d0%bd%d0%bd%d1%8f/
END:VEVENT
END:VCALENDAR